BEGIN:VCALENDAR
VERSION:2.0
PRODID:-//Struer Handel - ECPv6.15.18//NONSGML v1.0//EN
CALSCALE:GREGORIAN
METHOD:PUBLISH
X-ORIGINAL-URL:https://oplevstruer.dk
X-WR-CALDESC:Begivenheder for Struer Handel
REFRESH-INTERVAL;VALUE=DURATION:PT1H
X-Robots-Tag:noindex
X-PUBLISHED-TTL:PT1H
BEGIN:VTIMEZONE
TZID:Europe/Copenhagen
BEGIN:DAYLIGHT
TZOFFSETFROM:+0100
TZOFFSETTO:+0200
TZNAME:CEST
DTSTART:20250330T010000
END:DAYLIGHT
BEGIN:STANDARD
TZOFFSETFROM:+0200
TZOFFSETTO:+0100
TZNAME:CET
DTSTART:20251026T010000
END:STANDARD
BEGIN:DAYLIGHT
TZOFFSETFROM:+0100
TZOFFSETTO:+0200
TZNAME:CEST
DTSTART:20260329T010000
END:DAYLIGHT
BEGIN:STANDARD
TZOFFSETFROM:+0200
TZOFFSETTO:+0100
TZNAME:CET
DTSTART:20261025T010000
END:STANDARD
BEGIN:DAYLIGHT
TZOFFSETFROM:+0100
TZOFFSETTO:+0200
TZNAME:CEST
DTSTART:20270328T010000
END:DAYLIGHT
BEGIN:STANDARD
TZOFFSETFROM:+0200
TZOFFSETTO:+0100
TZNAME:CET
DTSTART:20271031T010000
END:STANDARD
END:VTIMEZONE
BEGIN:VEVENT
DTSTART;TZID=Europe/Copenhagen:20260501T093000
DTEND;TZID=Europe/Copenhagen:20260501T210000
DTSTAMP:20260418T115224
CREATED:20260326T102703Z
LAST-MODIFIED:20260330T080230Z
UID:10000003-1777627800-1777669200@oplevstruer.dk
SUMMARY:Lydens By by night
DESCRIPTION:Glæd dig til årets første Open by Night\, en aften fyldt med liv\, lyd og masser af lokal charme!\n\n\nKom til ‘Lydens By by Night’ og mød bl.a. nogle af de personer\, der skaber events\, koncerter og liv i vores kommune. Mød også nogle af alle dem der arbejder med lyd i Lydens By og som er med til at sætte Struer på landkortet \nDet bliver en uforglemmelig aften med god stemning og lokal stolthed i centrum! \nButikkerne holder åbent helt til kl. 21.00 med gode tilbud og god stemning\, mens du nyder en hyggelig aften i gågaden! \nKig ned i gågaden og gå ikke glip af gode tilbud i byens butikker\, samt muligheden for at vinde billetter til byens kultursteder og oplevelser! \nVi ses\nPROGRAM FØLGER.Fri entré \nLæs mere her
URL:https://oplevstruer.dk/events/lydens-by-by-night/
LOCATION:Struer\, Struer\, 7600
CATEGORIES:Shopping
ATTACH;FMTTYPE=image/jpeg:https://oplevstruer.dk/wp-content/uploads/lydens-by-by-night.jpg
ORGANIZER;CN="Oplev Struer":MAILTO:info@struerhandel.dk
END:VEVENT
END:VCALENDAR